BEGIN:VCALENDAR
VERSION:2.0
PRODID:-//Grupo Scout Santa Engracia 649 - ECPv5.0.3.1//NONSGML v1.0//EN
CALSCALE:GREGORIAN
METHOD:PUBLISH
X-WR-CALNAME:Grupo Scout Santa Engracia 649
X-ORIGINAL-URL:https://gruposcoutsantaengracia.es
X-WR-CALDESC:Eventos para Grupo Scout Santa Engracia 649
BEGIN:VTIMEZONE
TZID:Europe/Helsinki
BEGIN:DAYLIGHT
TZOFFSETFROM:+0200
TZOFFSETTO:+0300
TZNAME:EEST
DTSTART:20260329T010000
END:DAYLIGHT
BEGIN:STANDARD
TZOFFSETFROM:+0300
TZOFFSETTO:+0200
TZNAME:EET
DTSTART:20261025T010000
END:STANDARD
END:VTIMEZONE
BEGIN:VEVENT
DTSTART;VALUE=DATE:20260713
DTEND;VALUE=DATE:20260727
DTSTAMP:20260426T024114
CREATED:20250919T111334Z
LAST-MODIFIED:20250919T111334Z
UID:6154-1783900800-1785110399@gruposcoutsantaengracia.es
SUMMARY:Campamento de Verano
DESCRIPTION:
URL:https://gruposcoutsantaengracia.es/eventos/campamento-de-verano-2/
LOCATION:Laspaules\, Laspaules\, Huesca\, España
END:VEVENT
END:VCALENDAR