BEGIN:VCALENDAR
VERSION:2.0
PRODID:-//Grupo Scout Santa Engracia 649 - ECPv5.0.3.1//NONSGML v1.0//EN
CALSCALE:GREGORIAN
METHOD:PUBLISH
X-WR-CALNAME:Grupo Scout Santa Engracia 649
X-ORIGINAL-URL:https://gruposcoutsantaengracia.es
X-WR-CALDESC:Eventos para Grupo Scout Santa Engracia 649
BEGIN:VTIMEZONE
TZID:Europe/Helsinki
BEGIN:DAYLIGHT
TZOFFSETFROM:+0200
TZOFFSETTO:+0300
TZNAME:EEST
DTSTART:20210328T010000
END:DAYLIGHT
BEGIN:STANDARD
TZOFFSETFROM:+0300
TZOFFSETTO:+0200
TZNAME:EET
DTSTART:20211031T010000
END:STANDARD
END:VTIMEZONE
BEGIN:VEVENT
DTSTART;VALUE=DATE:20211226
DTEND;VALUE=DATE:20211231
DTSTAMP:20260423T173456
CREATED:20210929T082923Z
LAST-MODIFIED:20210929T083015Z
UID:5727-1640476800-1640908799@gruposcoutsantaengracia.es
SUMMARY:CAMPAMENTO DE NAVIDAD
DESCRIPTION:
URL:https://gruposcoutsantaengracia.es/eventos/campamento-de-navidad-2/
CATEGORIES:Campamento,Campamento de Navidad
ATTACH;FMTTYPE=image/png:https://gruposcoutsantaengracia.es/wp-content/uploads/454770-0-campanas2-e1543940005193.png
END:VEVENT
END:VCALENDAR