BEGIN:VCALENDAR
VERSION:2.0
PRODID:-//Grupo Scout Santa Engracia 649 - ECPv5.0.3.1//NONSGML v1.0//EN
CALSCALE:GREGORIAN
METHOD:PUBLISH
X-WR-CALNAME:Grupo Scout Santa Engracia 649
X-ORIGINAL-URL:https://gruposcoutsantaengracia.es
X-WR-CALDESC:Eventos para Grupo Scout Santa Engracia 649
BEGIN:VTIMEZONE
TZID:Europe/Helsinki
BEGIN:DAYLIGHT
TZOFFSETFROM:+0200
TZOFFSETTO:+0300
TZNAME:EEST
DTSTART:20260329T010000
END:DAYLIGHT
BEGIN:STANDARD
TZOFFSETFROM:+0300
TZOFFSETTO:+0200
TZNAME:EET
DTSTART:20261025T010000
END:STANDARD
END:VTIMEZONE
BEGIN:VEVENT
DTSTART;VALUE=DATE:20260402
DTEND;VALUE=DATE:20260406
DTSTAMP:20260420T031025
CREATED:20250919T110937Z
LAST-MODIFIED:20251014T101246Z
UID:6144-1775088000-1775433599@gruposcoutsantaengracia.es
SUMMARY:Campamento Semana Santa
DESCRIPTION:
URL:https://gruposcoutsantaengracia.es/eventos/campamento-semana-santa/
CATEGORIES:Campamento de Semana Santa
END:VEVENT
END:VCALENDAR