BEGIN:VCALENDAR
VERSION:2.0
PRODID:-//Grupo Scout Santa Engracia 649 - ECPv5.0.3.1//NONSGML v1.0//EN
CALSCALE:GREGORIAN
METHOD:PUBLISH
X-WR-CALNAME:Grupo Scout Santa Engracia 649
X-ORIGINAL-URL:https://gruposcoutsantaengracia.es
X-WR-CALDESC:Eventos para Grupo Scout Santa Engracia 649
BEGIN:VTIMEZONE
TZID:UTC
BEGIN:STANDARD
TZOFFSETFROM:+0000
TZOFFSETTO:+0000
TZNAME:UTC
DTSTART:20180101T000000
END:STANDARD
END:VTIMEZONE
BEGIN:VEVENT
DTSTART;TZID=UTC:20180414T104500
DTEND;TZID=UTC:20180415T180000
DTSTAMP:20260419T220438
CREATED:20180102T174219Z
LAST-MODIFIED:20180411T143123Z
UID:3824-1523702700-1523815200@gruposcoutsantaengracia.es
SUMMARY:Festijorge
DESCRIPTION:Festival de la canción de esta Ronda Solar que coincidirá con la acampada de San Jorge. \n
URL:https://gruposcoutsantaengracia.es/eventos/festijorge/
LOCATION:Parque del agua\, Paseo de los Puentes\, Zaragoza\, Aragón\, 50018\, España
CATEGORIES:Acampada,Festival de la Canción,San Jorge
END:VEVENT
END:VCALENDAR