BEGIN:VCALENDAR
VERSION:2.0
PRODID:-//Grupo Scout Santa Engracia 649 - ECPv5.0.3.1//NONSGML v1.0//EN
CALSCALE:GREGORIAN
METHOD:PUBLISH
X-WR-CALNAME:Grupo Scout Santa Engracia 649
X-ORIGINAL-URL:https://gruposcoutsantaengracia.es
X-WR-CALDESC:Eventos para Grupo Scout Santa Engracia 649
BEGIN:VTIMEZONE
TZID:UTC
BEGIN:STANDARD
TZOFFSETFROM:+0000
TZOFFSETTO:+0000
TZNAME:UTC
DTSTART:20180101T000000
END:STANDARD
END:VTIMEZONE
BEGIN:VEVENT
DTSTART;TZID=UTC:20181215T100000
DTEND;TZID=UTC:20181215T133000
DTSTAMP:20260419T235147
CREATED:20181203T195729Z
LAST-MODIFIED:20181214T163637Z
UID:4376-1544868000-1544880600@gruposcoutsantaengracia.es
SUMMARY:Operación Kilo
DESCRIPTION:Servicio de recogida de alimentos para los más necesitados en el que participaran las unidades mayores\, pioneros y compañeros\, junto a los otros grupos de la parroquia. \n
URL:https://gruposcoutsantaengracia.es/eventos/operacion-kilo/
LOCATION:Parroquia de Santa Engracia\, Calle Tomás Castellano\, 1\, Zaragoza\, Aragón\, 50001\, España
CATEGORIES:Operación Kilo,Servicio
ATTACH;FMTTYPE=image/png:https://gruposcoutsantaengracia.es/wp-content/uploads/iu-2-1-e1543939835680.png
END:VEVENT
END:VCALENDAR