BEGIN:VCALENDAR
VERSION:2.0
PRODID:-//Grupo Scout Santa Engracia 649 - ECPv5.0.3.1//NONSGML v1.0//EN
CALSCALE:GREGORIAN
METHOD:PUBLISH
X-WR-CALNAME:Grupo Scout Santa Engracia 649
X-ORIGINAL-URL:https://gruposcoutsantaengracia.es
X-WR-CALDESC:Eventos para Grupo Scout Santa Engracia 649
BEGIN:VTIMEZONE
TZID:Europe/Helsinki
BEGIN:DAYLIGHT
TZOFFSETFROM:+0200
TZOFFSETTO:+0300
TZNAME:EEST
DTSTART:20260329T010000
END:DAYLIGHT
BEGIN:STANDARD
TZOFFSETFROM:+0300
TZOFFSETTO:+0200
TZNAME:EET
DTSTART:20261025T010000
END:STANDARD
END:VTIMEZONE
BEGIN:VEVENT
DTSTART;TZID=Europe/Helsinki:20260214T180000
DTEND;TZID=Europe/Helsinki:20260214T200000
DTSTAMP:20260422T084923
CREATED:20250919T110701Z
LAST-MODIFIED:20250919T110701Z
UID:6136-1771092000-1771099200@gruposcoutsantaengracia.es
SUMMARY:Reunión
DESCRIPTION:
URL:https://gruposcoutsantaengracia.es/eventos/reunion-8/
LOCATION:Locales\, C/Castellano 1\, Zaragoza\, 50.001\, España
END:VEVENT
END:VCALENDAR