BEGIN:VCALENDAR
VERSION:2.0
PRODID:-//Grupo Scout Santa Engracia 649 - ECPv5.0.3.1//NONSGML v1.0//EN
CALSCALE:GREGORIAN
METHOD:PUBLISH
X-WR-CALNAME:Grupo Scout Santa Engracia 649
X-ORIGINAL-URL:https://gruposcoutsantaengracia.es
X-WR-CALDESC:Eventos para Grupo Scout Santa Engracia 649
BEGIN:VTIMEZONE
TZID:UTC
BEGIN:STANDARD
TZOFFSETFROM:+0000
TZOFFSETTO:+0000
TZNAME:UTC
DTSTART:20180101T000000
END:STANDARD
END:VTIMEZONE
BEGIN:VEVENT
DTSTART;VALUE=DATE:20181118
DTEND;VALUE=DATE:20181119
DTSTAMP:20260420T030813
CREATED:20181117T124908Z
LAST-MODIFIED:20181117T124908Z
UID:4293-1542499200-1542585599@gruposcoutsantaengracia.es
SUMMARY:Salida lobatos
DESCRIPTION:
URL:https://gruposcoutsantaengracia.es/eventos/salida-lobatos/
CATEGORIES:Salida
ORGANIZER;CN="Lobatos":MAILTO:manadatransvaal@gmail.com
END:VEVENT
END:VCALENDAR