BEGIN:VCALENDAR
VERSION:2.0
PRODID:-//Grupo Scout Santa Engracia 649 - ECPv5.0.3.1//NONSGML v1.0//EN
CALSCALE:GREGORIAN
METHOD:PUBLISH
X-WR-CALNAME:Grupo Scout Santa Engracia 649
X-ORIGINAL-URL:https://gruposcoutsantaengracia.es
X-WR-CALDESC:Eventos para Grupo Scout Santa Engracia 649
BEGIN:VTIMEZONE
TZID:UTC
BEGIN:STANDARD
TZOFFSETFROM:+0000
TZOFFSETTO:+0000
TZNAME:UTC
DTSTART:20180101T000000
END:STANDARD
END:VTIMEZONE
BEGIN:VEVENT
DTSTART;TZID=UTC:20181202T103000
DTEND;TZID=UTC:20181202T170000
DTSTAMP:20260420T032135
CREATED:20181203T194536Z
LAST-MODIFIED:20181203T194644Z
UID:4369-1543746600-1543770000@gruposcoutsantaengracia.es
SUMMARY:Salida tropa
DESCRIPTION:Salida en la que los troperos primero irán a misa\, después visitarán el Parque Grande y prepararán la actuación del festival. \n
URL:https://gruposcoutsantaengracia.es/eventos/salida-tropa-2/
LOCATION:Parque Grande\, Paseo de Fernando el Católico\, Zaragoza\, Aragón\, 50006\, España
CATEGORIES:Salida
ORGANIZER;CN="Tropa":MAILTO:tropaauriga@gmail.com
END:VEVENT
END:VCALENDAR